BEGIN:VCALENDAR
VERSION:2.0
PRODID:-//eventon.com NONSGML v1.0//EN
CALSCALE:GREGORIAN
METHOD:PUBLISH
BEGIN:VEVENT
UID:69e74fa7c94ac
DTSTAMP:20260421T102127Z
DTSTART:20230120T200000Z
DTEND:20230123T040000Z
LOCATION:Neal S. Blaisdell Center Exhibition Hall 777 Ward Avenue Honolulu\,  Hawaii 96814
SUMMARY:BIA Hawaii - Home Building & Remodeling Show
DESCRIPTION:BIA Hawaii - Home Building & Remodeling Show\nhttps://ihoc.com/
 events/hawaii-home-building-remodeling-show-copy/
URL:https://ihoc.com/events/hawaii-home-building-remodeling-show-copy/
END:VEVENT
END:VCALENDAR